1.5625
0
0
-1.5625
59592.6570236
374425.984531
