1.5625
0
0
-1.5625
76046.3590236
449686.943252
