1.5625
0
0
-1.5625
142698.645024
468927.342492
