1.5625
0
0
-1.5625
60239.5400236
374720.497157
