1.5625
0
0
-1.5625
197123.217024
327728.871811
