1.5625
0
0
-1.5625
121170.077024
500415.94135
