1.5625
0
0
-1.5625
176293.482024
415668.141744
