1.5625
0
0
-1.5625
141131.847024
476431.500815
