1.5625
0
0
-1.5625
260761.836024
499522.985343
