1.5625
0
0
-1.5625
153058.794024
452320.034665
