1.5625
0
0
-1.5625
221579.965024
501299.78011
