1.5625
0
0
-1.5625
194250.119024
392950.64752
