1.5625
0
0
-1.5625
172117.093024
385771.436358
