1.5625
0
0
-1.5625
191295.733024
353814.707185
