1.5625
0
0
-1.5625
159602.115024
566121.210055
