1.5625
0
0
-1.5625
118501.936024
446172.937055
