1.5625
0
0
-1.5625
250209.019024
600900.461744
