1.5625
0
0
-1.5625
218027.979024
494341.267409
