1.5625
0
0
-1.5625
193326.574024
559212.426665
