1.5625
0
0
-1.5625
207619.648024
557159.776724
