1.5625
0
0
-1.5625
246984.634024
498486.128453
