1.5625
0
0
-1.5625
228260.358024
450339.490854
