1.5625
0
0
-1.5625
198631.279024
537869.682276
