1.5625
0
0
-1.5625
197079.709024
512857.65463
