1.5625
0
0
-1.5625
198824.211024
599703.923594
