1.5625
0
0
-1.5625
68896.7860236
424789.502709
