1.5625
0
0
-1.5625
179302.599024
395262.704362
