1.5625
0
0
-1.5625
117601.287024
400426.61061
