1.5625
0
0
-1.5625
200308.791024
599753.837461
