1.5625
0
0
-1.5625
129155.858024
489340.211217
