1.5625
0
0
-1.5625
260996.758024
556106.001323
