1.5625
0
0
-1.5625
134800.179024
482657.867492
