1.5625
0
0
-1.5625
192712.135024
530380.716925
