1.5625
0
0
-1.5625
180566.597024
369538.4935
