1.5625
0
0
-1.5625
186531.737024
378550.971079
