1.5625
0
0
-1.5625
173246.344024
423234.505047
