1.5625
0
0
-1.5625
195677.686024
612319.571299
