1.5625
0
0
-1.5625
196788.453024
599020.930996
