1.5625
0
0
-1.5625
220795.158024
579371.48798
