1.5625
0
0
-1.5625
253094.783024
529214.267913
