1.5625
0
0
-1.5625
99394.2340236
479598.464343
