1.5625
0
0
-1.5625
257353.635024
544456.741217
