1.5625
0
0
-1.5625
119362.946024
530680.072323
