1.5625
0
0
-1.5625
101018.240024
470308.895213
