1.5625
0
0
-1.5625
198466.852024
553261.769783
