1.5625
0
0
-1.5625
113310.961024
457909.411433
