1.5625
0
0
-1.5625
233012.127024
529626.839961
