1.5625
0
0
-1.5625
190440.265024
550255.844579
