1.5625
0
0
-1.5625
238609.795024
526223.599866
