1.5625
0
0
-1.5625
257591.906024
588253.869961
